BEGIN:VCALENDAR
VERSION:2.0
PRODID:-//moproweb - ECPv6.15.18//NONSGML v1.0//EN
CALSCALE:GREGORIAN
METHOD:PUBLISH
X-WR-CALNAME:moproweb
X-ORIGINAL-URL:https://moproweb.de
X-WR-CALDESC:Veranstaltungen für moproweb
REFRESH-INTERVAL;VALUE=DURATION:PT1H
X-Robots-Tag:noindex
X-PUBLISHED-TTL:PT1H
BEGIN:VTIMEZONE
TZID:Europe/Berlin
BEGIN:DAYLIGHT
TZOFFSETFROM:+0100
TZOFFSETTO:+0200
TZNAME:CEST
DTSTART:20240331T010000
END:DAYLIGHT
BEGIN:STANDARD
TZOFFSETFROM:+0200
TZOFFSETTO:+0100
TZNAME:CET
DTSTART:20241027T010000
END:STANDARD
BEGIN:DAYLIGHT
TZOFFSETFROM:+0100
TZOFFSETTO:+0200
TZNAME:CEST
DTSTART:20250330T010000
END:DAYLIGHT
BEGIN:STANDARD
TZOFFSETFROM:+0200
TZOFFSETTO:+0100
TZNAME:CET
DTSTART:20251026T010000
END:STANDARD
BEGIN:DAYLIGHT
TZOFFSETFROM:+0100
TZOFFSETTO:+0200
TZNAME:CEST
DTSTART:20260329T010000
END:DAYLIGHT
BEGIN:STANDARD
TZOFFSETFROM:+0200
TZOFFSETTO:+0100
TZNAME:CET
DTSTART:20261025T010000
END:STANDARD
END:VTIMEZONE
BEGIN:VEVENT
DTSTART;TZID=Europe/Berlin:20250909T160000
DTEND;TZID=Europe/Berlin:20250909T183000
DTSTAMP:20260420T080642
CREATED:20250723T075944Z
LAST-MODIFIED:20250723T075944Z
UID:1000078403-1757433600-1757442600@moproweb.de
SUMMARY:SMART BITES: Alternative Proteine
DESCRIPTION:Am 9.9.2025 findet in der Wissenswerkstadt Bielefeld das Forum “SMART BITES: Alternative Proteine | Generative KI | Mission-Driven   Innovation | Innovationen erleichtern!”statt. Organisator ist die Food-Processing Initiative e.V.. \n16:00 Uhr – Start des Fachprogramms Smart Bites: \nZukunft pflanzen – Wie alternativlos sind alternative Proteine?\nProf. Dr. Guido Ritter\, FH Münster\nTime-to-Market im Fokus – Wie KI durch innovative Use Cases die Produktentwicklung von Getränken & Lebensmitteln verändert.\nChristian Klein\, UMYNO Solutions\nMission-Driven Innovation – Wie gelingt Fortschritt mit Sinn und Wirkung\nKees de Gooijer\, Wageningen University\nWie internationale Cluster den Unterschied machen – Kontakte\, Kompetenzen & Kapital\nSimon Maas\, AgriFood Capital\nWie enstehen Ideen\, die tragen und Lösungen\, die wirken? Unser Erfolgkonzept: Machen!\nFood-Processing Initiative & Weggefährten\nAnforderungen an moderne Convenience Produkte im Foodservice MarktGünther Lehmann\, LEHMANNs Gastronomie Service GmbH\n18:30 Uhr – Anschließend laden wir herzlich ein zum Networking mit Imbiss. \n  \n  \n 
URL:https://moproweb.de/event/smart-bites-alternative-proteine/
CATEGORIES:Seminare
ATTACH;FMTTYPE=image/jpeg:https://mopro-web.s3.eu-central-1.amazonaws.com/wp-content/uploads/2024/08/28152659/FPI.jpg
END:VEVENT
END:VCALENDAR