BEGIN:VCALENDAR
VERSION:2.0
PRODID:-//moproweb - ECPv6.15.18//NONSGML v1.0//EN
CALSCALE:GREGORIAN
METHOD:PUBLISH
X-WR-CALNAME:moproweb
X-ORIGINAL-URL:https://moproweb.de
X-WR-CALDESC:Veranstaltungen für moproweb
REFRESH-INTERVAL;VALUE=DURATION:PT1H
X-Robots-Tag:noindex
X-PUBLISHED-TTL:PT1H
BEGIN:VTIMEZONE
TZID:Europe/Berlin
BEGIN:DAYLIGHT
TZOFFSETFROM:+0100
TZOFFSETTO:+0200
TZNAME:CEST
DTSTART:20250330T010000
END:DAYLIGHT
BEGIN:STANDARD
TZOFFSETFROM:+0200
TZOFFSETTO:+0100
TZNAME:CET
DTSTART:20251026T010000
END:STANDARD
BEGIN:DAYLIGHT
TZOFFSETFROM:+0100
TZOFFSETTO:+0200
TZNAME:CEST
DTSTART:20260329T010000
END:DAYLIGHT
BEGIN:STANDARD
TZOFFSETFROM:+0200
TZOFFSETTO:+0100
TZNAME:CET
DTSTART:20261025T010000
END:STANDARD
BEGIN:DAYLIGHT
TZOFFSETFROM:+0100
TZOFFSETTO:+0200
TZNAME:CEST
DTSTART:20270328T010000
END:DAYLIGHT
BEGIN:STANDARD
TZOFFSETFROM:+0200
TZOFFSETTO:+0100
TZNAME:CET
DTSTART:20271031T010000
END:STANDARD
END:VTIMEZONE
BEGIN:VEVENT
DTSTART;VALUE=DATE:20260204
DTEND;VALUE=DATE:20260205
DTSTAMP:20260419T203919
CREATED:20260112T081347Z
LAST-MODIFIED:20260112T081347Z
UID:1000082029-1770163200-1770249599@moproweb.de
SUMMARY:Rückstände und Kontaminanten in Milch und Milchprodukten
DESCRIPTION:  \nMineralölrückstände (MOSH\, MOAH)\, PFAS\, Aflatoxine sowie weitere Rückstände und Kontaminanten wurden in der Vergangenheit sehr medienwirksam an den Verbraucher kommuniziert. Für den Lebensmittelunternehmer ist es daher sehr wichtig\, potenzielle Eintragungswege zu kennen und sich intensiv mit diesen auseinanderzusetzen um entsprechend zu agieren und proaktiv mit der Thematik umzugehen. \nBei einem Online-Seminar der muva Kempten werden wichtige Fragestellungen im Zusammenhang mit Rückständen und Kontaminanten näher beleuchtet\, typische Eintragswege vorgestellt\nund Lösungswege für die spezifischen Probleme aufgezeigt. \n 
URL:https://moproweb.de/event/rueckstaende-und-kontaminanten-in-milch-und-milchprodukten/
CATEGORIES:Seminare
ATTACH;FMTTYPE=image/jpeg:https://moproweb.de/wp-content/uploads/2024/01/muva.jpg
END:VEVENT
END:VCALENDAR