BEGIN:VCALENDAR
VERSION:2.0
PRODID:-//moproweb - ECPv6.15.18//NONSGML v1.0//EN
CALSCALE:GREGORIAN
METHOD:PUBLISH
X-WR-CALNAME:moproweb
X-ORIGINAL-URL:https://moproweb.de
X-WR-CALDESC:Veranstaltungen für moproweb
REFRESH-INTERVAL;VALUE=DURATION:PT1H
X-Robots-Tag:noindex
X-PUBLISHED-TTL:PT1H
BEGIN:VTIMEZONE
TZID:Europe/Berlin
BEGIN:DAYLIGHT
TZOFFSETFROM:+0100
TZOFFSETTO:+0200
TZNAME:CEST
DTSTART:20250330T010000
END:DAYLIGHT
BEGIN:STANDARD
TZOFFSETFROM:+0200
TZOFFSETTO:+0100
TZNAME:CET
DTSTART:20251026T010000
END:STANDARD
BEGIN:DAYLIGHT
TZOFFSETFROM:+0100
TZOFFSETTO:+0200
TZNAME:CEST
DTSTART:20260329T010000
END:DAYLIGHT
BEGIN:STANDARD
TZOFFSETFROM:+0200
TZOFFSETTO:+0100
TZNAME:CET
DTSTART:20261025T010000
END:STANDARD
BEGIN:DAYLIGHT
TZOFFSETFROM:+0100
TZOFFSETTO:+0200
TZNAME:CEST
DTSTART:20270328T010000
END:DAYLIGHT
BEGIN:STANDARD
TZOFFSETFROM:+0200
TZOFFSETTO:+0100
TZNAME:CET
DTSTART:20271031T010000
END:STANDARD
END:VTIMEZONE
BEGIN:VEVENT
DTSTART;VALUE=DATE:20260219
DTEND;VALUE=DATE:20260220
DTSTAMP:20260419T203925
CREATED:20260210T094845Z
LAST-MODIFIED:20260210T094845Z
UID:1000082682-1771459200-1771545599@moproweb.de
SUMMARY:Protein-Reformulierung: Herausforderungen. Chancen. Lösungsansätze.
DESCRIPTION:Am Donnerstag\, 19. März 2026\, findet die Online-Konferenz des DLG-Lebensmitteltags Sensorik zum Thema „Protein-Reformulierung: Herausforderungen. Chancen. Lösungsansätze.“ statt. Die starre Trennung in tierische versus alternative Proteine ist überholt: Die Vielfalt an Proteinquellen wächst rasant\, und eine neue Reformulierungswelle stellt die Produktentwicklung und Qualitätssicherung vor komplexe Aufgaben. Insbesondere pflanzliche Proteine stehen dabei im Fokus\, während kultivierte und mikrobiell erzeugte Proteine zunehmend an Bedeutung gewinnen. \nBei Anmeldungen nach dem 27. Februar kann aufgrund des postalischen Probenversands keine Teilnahme an der Online-Verkostung garantiert werden. \n 
URL:https://moproweb.de/event/protein-reformulierung-herausforderungen-chancen-loesungsansaetze/
CATEGORIES:Seminare
ATTACH;FMTTYPE=image/jpeg:https://mopro-web.s3.eu-central-1.amazonaws.com/wp-content/uploads/2024/08/28150657/DLG_Logo_Neu_Sep_2020-1.jpg
END:VEVENT
END:VCALENDAR