BEGIN:VCALENDAR
VERSION:2.0
PRODID:-//moproweb - ECPv6.15.20//NONSGML v1.0//EN
CALSCALE:GREGORIAN
METHOD:PUBLISH
X-WR-CALNAME:moproweb
X-ORIGINAL-URL:https://moproweb.de
X-WR-CALDESC:Veranstaltungen für moproweb
REFRESH-INTERVAL;VALUE=DURATION:PT1H
X-Robots-Tag:noindex
X-PUBLISHED-TTL:PT1H
BEGIN:VTIMEZONE
TZID:Europe/Berlin
BEGIN:DAYLIGHT
TZOFFSETFROM:+0100
TZOFFSETTO:+0200
TZNAME:CEST
DTSTART:20240331T010000
END:DAYLIGHT
BEGIN:STANDARD
TZOFFSETFROM:+0200
TZOFFSETTO:+0100
TZNAME:CET
DTSTART:20241027T010000
END:STANDARD
BEGIN:DAYLIGHT
TZOFFSETFROM:+0100
TZOFFSETTO:+0200
TZNAME:CEST
DTSTART:20250330T010000
END:DAYLIGHT
BEGIN:STANDARD
TZOFFSETFROM:+0200
TZOFFSETTO:+0100
TZNAME:CET
DTSTART:20251026T010000
END:STANDARD
BEGIN:DAYLIGHT
TZOFFSETFROM:+0100
TZOFFSETTO:+0200
TZNAME:CEST
DTSTART:20260329T010000
END:DAYLIGHT
BEGIN:STANDARD
TZOFFSETFROM:+0200
TZOFFSETTO:+0100
TZNAME:CET
DTSTART:20261025T010000
END:STANDARD
END:VTIMEZONE
BEGIN:VEVENT
DTSTART;VALUE=DATE:20250303
DTEND;VALUE=DATE:20250304
DTSTAMP:20260420T174920
CREATED:20250126T161930Z
LAST-MODIFIED:20250126T161930Z
UID:1000073132-1740960000-1741046399@moproweb.de
SUMMARY:Praxisworkshop Kurzzeiterhitzer in Theorie und Praxis
DESCRIPTION:  \nDie Kurzzeiterhitzung ist zur Reduzierung der Keimbelastung\, Abtötung potentieller Krankheitserreger und Verbesserung der Haltbarkeit der Milch eines der häufigsten Verfahren in der Milchindustrie. Auch in Hofkäsereien und ‑molkereien kommen Durchlaufpasteure zum Einsatz. Vor der Anschaffung oder auch im laufenden Betrieb eines Kurzzeiterhitzers stellen sich viele Fragen: \nWie funktioniert die Wärmerückgewinnung?\nAb welchen Verarbeitungsmengen ist ein Kurzzeiterhitzer sinnvoller als ein Chargenpasteur?\nWie viel Strom\, Wasser und Reinigungsmittel werden verbraucht?\nWie lässt sich der Erhitzer an verschiedene Prozesse (Trinkmilch\, Joghurt\, Käse) anpassen? \nDer Praxisworkshop Kurzzeiterhitzer in Theorie und Praxis des VHM findet am 3. März an der Staatlichen Fachschule für Milch- und Molkereiwirtschaft\, 88239 Wangen\, statt. \nInhalte\nSie tauchen ein in die Theorie der Funktionsweisen und der Wärmerückgewinnung und verstehen die Faktoren Druck und Durchmesser und ihre Auswirkungen. Sie lernen\, welche Parameter sie kontrollieren müssen und welche Anzeichen auf Probleme hindeuten.\nIm praktischen Teil schauen Sie sich gemeinsam mit den Fachleuten den Betrieb und die Kontrolle (Druckprüfung\, Plattentausch und Dichtungswechsel) an. \nDer Kurs\nDer Verband für handwerkliche Milchverarbeitung freut sich\, dieses Seminar in Kooperation mit der Staatlichen Fachschule für Milch- und Molkereiwirtschaft anzubieten: \nIn diesem neuen eintägigen Praxisworkshop stehen Ihnen unabhängige Experten und erfahrene Praktiker Rede und Antwort. Firmenunabhängig und neutral erhalten Einsteiger und “alte Hasen” Hilfestellung. \n 
URL:https://moproweb.de/event/praxisworkshop-kurzzeiterhitzer-in-theorie-und-praxis/
ATTACH;FMTTYPE=image/jpeg:https://mopro-web.s3.eu-central-1.amazonaws.com/wp-content/uploads/2024/09/06145830/VHM.jpg
END:VEVENT
END:VCALENDAR