BEGIN:VCALENDAR
VERSION:2.0
PRODID:-//moproweb - ECPv6.15.18//NONSGML v1.0//EN
CALSCALE:GREGORIAN
METHOD:PUBLISH
X-WR-CALNAME:moproweb
X-ORIGINAL-URL:https://moproweb.de
X-WR-CALDESC:Veranstaltungen für moproweb
REFRESH-INTERVAL;VALUE=DURATION:PT1H
X-Robots-Tag:noindex
X-PUBLISHED-TTL:PT1H
BEGIN:VTIMEZONE
TZID:Europe/Berlin
BEGIN:DAYLIGHT
TZOFFSETFROM:+0100
TZOFFSETTO:+0200
TZNAME:CEST
DTSTART:20250330T010000
END:DAYLIGHT
BEGIN:STANDARD
TZOFFSETFROM:+0200
TZOFFSETTO:+0100
TZNAME:CET
DTSTART:20251026T010000
END:STANDARD
BEGIN:DAYLIGHT
TZOFFSETFROM:+0100
TZOFFSETTO:+0200
TZNAME:CEST
DTSTART:20260329T010000
END:DAYLIGHT
BEGIN:STANDARD
TZOFFSETFROM:+0200
TZOFFSETTO:+0100
TZNAME:CET
DTSTART:20261025T010000
END:STANDARD
BEGIN:DAYLIGHT
TZOFFSETFROM:+0100
TZOFFSETTO:+0200
TZNAME:CEST
DTSTART:20270328T010000
END:DAYLIGHT
BEGIN:STANDARD
TZOFFSETFROM:+0200
TZOFFSETTO:+0100
TZNAME:CET
DTSTART:20271031T010000
END:STANDARD
END:VTIMEZONE
BEGIN:VEVENT
DTSTART;VALUE=DATE:20260623
DTEND;VALUE=DATE:20260625
DTSTAMP:20260419T202602
CREATED:20260415T142616Z
LAST-MODIFIED:20260415T142616Z
UID:1000084257-1782172800-1782345599@moproweb.de
SUMMARY:Praxisseminar zur Digitalisierung und Produktionsplanung in Lebensmittelbetrieben 
DESCRIPTION:  \nFoto: Callicon \nUnter dem Titel „Von der Architektenleistung bis zur modernen Digitalisierung in Lebensmittelbetrieben“ findet am 23. und 24. Juni 2026 ein exklusives Praxisseminar für Fach- und Führungskräfte der Lebensmittelbranche statt. Die Veranstaltung verbindet strategische Ansätze mit konkreten Praxisbeispielen und gewährt seltene Einblicke in reale Projekte moderner Lebensmittelproduktion. Organisiert wird sie von Callicon. \nDas Seminar richtet sich an Geschäftsführung\, Produktionsleitung\, Technik- und IT-Verantwortliche sowie Projektleiter aus Lebensmittelbetrieben. Um einen intensiven fachlichen Austausch und eine hohe Interaktivität zu gewährleisten\, ist die Teilnehmerzahl bewusst auf rund 20 Personen begrenzt. \nIm Mittelpunkt stehen konkrete Referenzprojekte\, darunter die Wirtshaus Dienstleistung GmbH (WDL) mit ihrer Zentralküche der Zukunft sowie der Seehof Ammersee in Herrsching. Die Teilnehmer erhalten umfassende Einblicke in die Planung\, Umsetzung und Begleitung moderner Produktionsstrukturen sowie in die gezielte Entkopplung von Prozessen innerhalb der Großküchenproduktion. \nDer erste Veranstaltungstag in Herrsching am Ammersee widmet sich den Themen Strategie\, Technologie und Planung. Neben der Vorstellung der Praxisprojekte werden moderne Ansätze wie Low-Code-Plattformen und der Einsatz künstlicher Intelligenz in Lebensmittelbetrieben beleuchtet. Dabei stehen konkrete Anwendungen entlang der gesamten Wertschöpfungskette im Fokus – von Beschaffung und Produktionsplanung bis hin zu Qualitätsmanagement und Instandhaltung. Ergänzt wird das Programm durch eine detaillierte Projektvorstellung der WDL-Zentralküche\, einschließlich zentraler Erfolgsfaktoren und typischer Herausforderungen. Darüber hinaus wird die enge Verzahnung von Architektur\, Technik und IT sowohl bei Neubauten als auch bei Umbauten im laufenden Betrieb thematisiert. Der Tag endet mit einer Diskussionsrunde sowie einem gemeinsamen Abendessen im Seehof Ammersee\, das Raum für Networking und Erfahrungsaustausch bietet. \nAm zweiten Tag steht die praktische Umsetzung im Vordergrund. Nach einer gemeinsamen Anfahrt zum Produktionsstandort der WDL in Brunnthal erhalten die Teilnehmer direkte Einblicke in die realisierten Prozesse der Zentralküche München. \nDie eingesetzten Low-Code- und KI-Lösungen werden im laufenden Betrieb demonstriert und in ihrem konkreten Nutzen für Mitarbeiter und Unternehmen erläutert. Im Rahmen einer geführten Betriebsbesichtigung bei WDL können die Teilnehmer die Anwendungen live erleben und ihre Fragen direkt vor Ort mit den Projektverantwortlichen diskutieren. \nDas Seminar vermittelt praxisnahe Ansätze zur Optimierung von Produktionsprozessen\, zur erfolgreichen Integration digitaler Technologien sowie zur Steigerung von Effizienz\, Flexibilität und Kostenkontrolle in Lebensmittelbetrieben. \nDie Veranstaltung findet am 23. Juni 2026 von 14:30 bis 22:00 Uhr in Herrsching am Ammersee sowie am 24. Juni 2026 von 08:45 bis etwa 13:30 Uhr in Brunnthal statt. Die Teilnahmegebühr beträgt 299 Euro pro Person und beinhaltet die Abendveranstaltung sowie die Verpflegung. \nAufgrund der limitierten Teilnehmerzahl wird eine frühzeitige Anmeldung empfohlen. \n 
URL:https://moproweb.de/event/praxisseminar-zur-digitalisierung-und-produktionsplanung-in-lebensmittelbetrieben/
CATEGORIES:Seminare
ATTACH;FMTTYPE=image/jpeg:https://moproweb.de/wp-content/uploads/2026/04/Callicon.jpg
END:VEVENT
END:VCALENDAR