BEGIN:VCALENDAR
VERSION:2.0
PRODID:-//moproweb - ECPv6.15.18//NONSGML v1.0//EN
CALSCALE:GREGORIAN
METHOD:PUBLISH
X-WR-CALNAME:moproweb
X-ORIGINAL-URL:https://moproweb.de
X-WR-CALDESC:Veranstaltungen für moproweb
REFRESH-INTERVAL;VALUE=DURATION:PT1H
X-Robots-Tag:noindex
X-PUBLISHED-TTL:PT1H
BEGIN:VTIMEZONE
TZID:Europe/Berlin
BEGIN:DAYLIGHT
TZOFFSETFROM:+0100
TZOFFSETTO:+0200
TZNAME:CEST
DTSTART:20240331T010000
END:DAYLIGHT
BEGIN:STANDARD
TZOFFSETFROM:+0200
TZOFFSETTO:+0100
TZNAME:CET
DTSTART:20241027T010000
END:STANDARD
BEGIN:DAYLIGHT
TZOFFSETFROM:+0100
TZOFFSETTO:+0200
TZNAME:CEST
DTSTART:20250330T010000
END:DAYLIGHT
BEGIN:STANDARD
TZOFFSETFROM:+0200
TZOFFSETTO:+0100
TZNAME:CET
DTSTART:20251026T010000
END:STANDARD
BEGIN:DAYLIGHT
TZOFFSETFROM:+0100
TZOFFSETTO:+0200
TZNAME:CEST
DTSTART:20260329T010000
END:DAYLIGHT
BEGIN:STANDARD
TZOFFSETFROM:+0200
TZOFFSETTO:+0100
TZNAME:CET
DTSTART:20261025T010000
END:STANDARD
END:VTIMEZONE
BEGIN:VEVENT
DTSTART;VALUE=DATE:20250923
DTEND;VALUE=DATE:20250926
DTSTAMP:20260420T080454
CREATED:20250312T122908Z
LAST-MODIFIED:20250312T122908Z
UID:1000074197-1758585600-1758844799@moproweb.de
SUMMARY:POWTECH TECHNOPHARM 2025
DESCRIPTION:  \nVom 23. bis 25. September 2025 dreht sich auf dem Nürnberger Messegelände auf der POWTECH TECHNOPHARM wieder alles rund um Technologien zur Verarbeitung von Pulvern\, Feststoffen und Flüssigkeiten. Besucher können sich schon jetzt auf Altbewährtes sowie neue Ideen und Konzepte freuen. Profitieren werden die Teilnehmer von der Co-Location mit der FACHPACK\, europäische Fachmesse für Verpackung\, Technik und Prozesse. Der renommierte internationale Wissenschaftskongress PARTEC begleitet die POWTECH TECHNOPHARM auch 2025.
URL:https://moproweb.de/event/powtech-technopharm-2025/
CATEGORIES:Messe
ATTACH;FMTTYPE=image/png:https://mopro-web.s3.eu-central-1.amazonaws.com/wp-content/uploads/2025/03/12132850/Powtech-Technopharm-neues-Logo-vertikal.png
END:VEVENT
END:VCALENDAR