BEGIN:VCALENDAR
VERSION:2.0
PRODID:-//moproweb - ECPv6.15.18//NONSGML v1.0//EN
CALSCALE:GREGORIAN
METHOD:PUBLISH
X-WR-CALNAME:moproweb
X-ORIGINAL-URL:https://moproweb.de
X-WR-CALDESC:Veranstaltungen für moproweb
REFRESH-INTERVAL;VALUE=DURATION:PT1H
X-Robots-Tag:noindex
X-PUBLISHED-TTL:PT1H
BEGIN:VTIMEZONE
TZID:Europe/Berlin
BEGIN:DAYLIGHT
TZOFFSETFROM:+0100
TZOFFSETTO:+0200
TZNAME:CEST
DTSTART:20250330T010000
END:DAYLIGHT
BEGIN:STANDARD
TZOFFSETFROM:+0200
TZOFFSETTO:+0100
TZNAME:CET
DTSTART:20251026T010000
END:STANDARD
BEGIN:DAYLIGHT
TZOFFSETFROM:+0100
TZOFFSETTO:+0200
TZNAME:CEST
DTSTART:20260329T010000
END:DAYLIGHT
BEGIN:STANDARD
TZOFFSETFROM:+0200
TZOFFSETTO:+0100
TZNAME:CET
DTSTART:20261025T010000
END:STANDARD
BEGIN:DAYLIGHT
TZOFFSETFROM:+0100
TZOFFSETTO:+0200
TZNAME:CEST
DTSTART:20270328T010000
END:DAYLIGHT
BEGIN:STANDARD
TZOFFSETFROM:+0200
TZOFFSETTO:+0100
TZNAME:CET
DTSTART:20271031T010000
END:STANDARD
END:VTIMEZONE
BEGIN:VEVENT
DTSTART;VALUE=DATE:20260616
DTEND;VALUE=DATE:20260617
DTSTAMP:20260419T202602
CREATED:20260419T111234Z
LAST-MODIFIED:20260419T111234Z
UID:1000084314-1781568000-1781654399@moproweb.de
SUMMARY:OPTITOOL Fachtagung: Milchsammel-Logistik 2026
DESCRIPTION:Die OPTITOOL Fachtagung Milchsammel-Logistik 2026 findet als Präsenzveranstaltung am 16.06.2026 in Regensburg statt. Dazu kommt eine online-Veranstaltung am 01.07.2026. \nDas Thema des Events lautet “Von der Planung bis zu Abholung: OPTITOOL in Aktion!”
URL:https://moproweb.de/event/optitool-fachtagung-milchsammel-logistik-2026/
CATEGORIES:Seminare
ATTACH;FMTTYPE=image/jpeg:https://moproweb.de/wp-content/uploads/2026/04/Optitool.jpg
END:VEVENT
END:VCALENDAR