BEGIN:VCALENDAR
VERSION:2.0
PRODID:-//moproweb - ECPv6.15.20//NONSGML v1.0//EN
CALSCALE:GREGORIAN
METHOD:PUBLISH
X-WR-CALNAME:moproweb
X-ORIGINAL-URL:https://moproweb.de
X-WR-CALDESC:Veranstaltungen für moproweb
REFRESH-INTERVAL;VALUE=DURATION:PT1H
X-Robots-Tag:noindex
X-PUBLISHED-TTL:PT1H
BEGIN:VTIMEZONE
TZID:Europe/Berlin
BEGIN:DAYLIGHT
TZOFFSETFROM:+0100
TZOFFSETTO:+0200
TZNAME:CEST
DTSTART:20240331T010000
END:DAYLIGHT
BEGIN:STANDARD
TZOFFSETFROM:+0200
TZOFFSETTO:+0100
TZNAME:CET
DTSTART:20241027T010000
END:STANDARD
BEGIN:DAYLIGHT
TZOFFSETFROM:+0100
TZOFFSETTO:+0200
TZNAME:CEST
DTSTART:20250330T010000
END:DAYLIGHT
BEGIN:STANDARD
TZOFFSETFROM:+0200
TZOFFSETTO:+0100
TZNAME:CET
DTSTART:20251026T010000
END:STANDARD
BEGIN:DAYLIGHT
TZOFFSETFROM:+0100
TZOFFSETTO:+0200
TZNAME:CEST
DTSTART:20260329T010000
END:DAYLIGHT
BEGIN:STANDARD
TZOFFSETFROM:+0200
TZOFFSETTO:+0100
TZNAME:CET
DTSTART:20261025T010000
END:STANDARD
END:VTIMEZONE
BEGIN:VEVENT
DTSTART;VALUE=DATE:20250318
DTEND;VALUE=DATE:20250319
DTSTAMP:20260420T174849
CREATED:20250129T085226Z
LAST-MODIFIED:20250129T085226Z
UID:1000073188-1742256000-1742342399@moproweb.de
SUMMARY:LieferkettenSorgfaltspflichtGesetz
DESCRIPTION:Sie haben zwar von Lieferkettensorgfaltspflichtgesetz gehört\, sind aber unsicher\, ob Sie das überhaupt betrifft? Oder haben sich bereits die ersten Kunden mit Anforderungen gemeldet? Sie haben einfach noch viele Fragezeichen im Kopf?  Da soll Dr. Müllers interdisziplinärer Werkzeugkasten: LieferkettenSorgfaltspflichtGesetz\, ein Online-Seminar am 18. März 2025\, von 10:00 bis 14:00 Uhr\, helfen. \nDr. Andreas Müller zeigt die wesentlichen Inhaltes des Gesetzes auf. Als sattelfester und eloquenter Spezialist kennt er die Fallen\, Tricks und Kniffe der Praxis genau – und bringt viele greifbare Praxisbeispiele mit. \nAnmeldeschluss ist am 11. März 2025.
URL:https://moproweb.de/event/lieferkettensorgfaltspflichtgesetz/
CATEGORIES:Seminare
ATTACH;FMTTYPE=image/jpeg:https://mopro-web.s3.eu-central-1.amazonaws.com/wp-content/uploads/2024/08/28152300/DLG_Logo_Neu_Sep_2020-2.jpg
END:VEVENT
END:VCALENDAR