BEGIN:VCALENDAR
VERSION:2.0
PRODID:-//moproweb - ECPv6.15.18//NONSGML v1.0//EN
CALSCALE:GREGORIAN
METHOD:PUBLISH
X-WR-CALNAME:moproweb
X-ORIGINAL-URL:https://moproweb.de
X-WR-CALDESC:Veranstaltungen für moproweb
REFRESH-INTERVAL;VALUE=DURATION:PT1H
X-Robots-Tag:noindex
X-PUBLISHED-TTL:PT1H
BEGIN:VTIMEZONE
TZID:Europe/Berlin
BEGIN:DAYLIGHT
TZOFFSETFROM:+0100
TZOFFSETTO:+0200
TZNAME:CEST
DTSTART:20250330T010000
END:DAYLIGHT
BEGIN:STANDARD
TZOFFSETFROM:+0200
TZOFFSETTO:+0100
TZNAME:CET
DTSTART:20251026T010000
END:STANDARD
BEGIN:DAYLIGHT
TZOFFSETFROM:+0100
TZOFFSETTO:+0200
TZNAME:CEST
DTSTART:20260329T010000
END:DAYLIGHT
BEGIN:STANDARD
TZOFFSETFROM:+0200
TZOFFSETTO:+0100
TZNAME:CET
DTSTART:20261025T010000
END:STANDARD
BEGIN:DAYLIGHT
TZOFFSETFROM:+0100
TZOFFSETTO:+0200
TZNAME:CEST
DTSTART:20270328T010000
END:DAYLIGHT
BEGIN:STANDARD
TZOFFSETFROM:+0200
TZOFFSETTO:+0100
TZNAME:CET
DTSTART:20271031T010000
END:STANDARD
END:VTIMEZONE
BEGIN:VEVENT
DTSTART;VALUE=DATE:20260112
DTEND;VALUE=DATE:20260115
DTSTAMP:20260419T221824
CREATED:20250926T072446Z
LAST-MODIFIED:20251128T125324Z
UID:1000079815-1768176000-1768435199@moproweb.de
SUMMARY:KÄSESEMINAR -  THEORIE UND PRAXIS
DESCRIPTION:Die Hochschule Hannover veranstaltet zusammen mit der Deutschen Molkerei-Akademie vom 12. bis 14. Januar 2026 in Hannover-Ahlem das “KÄSESEMINAR –\nTHEORIE UND PRAXIS”. \nProgramm: Ahlem Käseseminar_2026
URL:https://moproweb.de/event/kaeseseminar-theorie-und-praxis/
CATEGORIES:Seminare
ATTACH;FMTTYPE=image/jpeg:https://moproweb.de/wp-content/uploads/2024/01/Ahlem.jpg
END:VEVENT
END:VCALENDAR