BEGIN:VCALENDAR
VERSION:2.0
PRODID:-//moproweb - ECPv6.15.18//NONSGML v1.0//EN
CALSCALE:GREGORIAN
METHOD:PUBLISH
X-WR-CALNAME:moproweb
X-ORIGINAL-URL:https://moproweb.de
X-WR-CALDESC:Veranstaltungen für moproweb
REFRESH-INTERVAL;VALUE=DURATION:PT1H
X-Robots-Tag:noindex
X-PUBLISHED-TTL:PT1H
BEGIN:VTIMEZONE
TZID:Europe/Berlin
BEGIN:DAYLIGHT
TZOFFSETFROM:+0100
TZOFFSETTO:+0200
TZNAME:CEST
DTSTART:20240331T010000
END:DAYLIGHT
BEGIN:STANDARD
TZOFFSETFROM:+0200
TZOFFSETTO:+0100
TZNAME:CET
DTSTART:20241027T010000
END:STANDARD
BEGIN:DAYLIGHT
TZOFFSETFROM:+0100
TZOFFSETTO:+0200
TZNAME:CEST
DTSTART:20250330T010000
END:DAYLIGHT
BEGIN:STANDARD
TZOFFSETFROM:+0200
TZOFFSETTO:+0100
TZNAME:CET
DTSTART:20251026T010000
END:STANDARD
BEGIN:DAYLIGHT
TZOFFSETFROM:+0100
TZOFFSETTO:+0200
TZNAME:CEST
DTSTART:20260329T010000
END:DAYLIGHT
BEGIN:STANDARD
TZOFFSETFROM:+0200
TZOFFSETTO:+0100
TZNAME:CET
DTSTART:20261025T010000
END:STANDARD
END:VTIMEZONE
BEGIN:VEVENT
DTSTART;VALUE=DATE:20251007
DTEND;VALUE=DATE:20251009
DTSTAMP:20260420T050300
CREATED:20241210T091641Z
LAST-MODIFIED:20241210T091641Z
UID:1000072268-1759795200-1759967999@moproweb.de
SUMMARY:INTERNATIONALE KONFERENZ: Mehr Produktsicherheit bei Tank- und Silofahrzeugen
DESCRIPTION:Die INTERNATIONALE KONFERENZ: Mehr Produktsicherheit bei Tank- und Silofahrzeugen findet am 7./8.10.2025 statt. \n 
URL:https://moproweb.de/event/internationale-konferenz-mehr-produktsicherheit-bei-tank-und-silofahrzeugen/
CATEGORIES:Seminare
ATTACH;FMTTYPE=image/jpeg:https://moproweb.de/wp-content/uploads/2024/01/muva.jpg
END:VEVENT
END:VCALENDAR