BEGIN:VCALENDAR
VERSION:2.0
PRODID:-//moproweb - ECPv6.15.20//NONSGML v1.0//EN
CALSCALE:GREGORIAN
METHOD:PUBLISH
X-WR-CALNAME:moproweb
X-ORIGINAL-URL:https://moproweb.de
X-WR-CALDESC:Veranstaltungen für moproweb
REFRESH-INTERVAL;VALUE=DURATION:PT1H
X-Robots-Tag:noindex
X-PUBLISHED-TTL:PT1H
BEGIN:VTIMEZONE
TZID:Europe/Berlin
BEGIN:DAYLIGHT
TZOFFSETFROM:+0100
TZOFFSETTO:+0200
TZNAME:CEST
DTSTART:20240331T010000
END:DAYLIGHT
BEGIN:STANDARD
TZOFFSETFROM:+0200
TZOFFSETTO:+0100
TZNAME:CET
DTSTART:20241027T010000
END:STANDARD
BEGIN:DAYLIGHT
TZOFFSETFROM:+0100
TZOFFSETTO:+0200
TZNAME:CEST
DTSTART:20250330T010000
END:DAYLIGHT
BEGIN:STANDARD
TZOFFSETFROM:+0200
TZOFFSETTO:+0100
TZNAME:CET
DTSTART:20251026T010000
END:STANDARD
BEGIN:DAYLIGHT
TZOFFSETFROM:+0100
TZOFFSETTO:+0200
TZNAME:CEST
DTSTART:20260329T010000
END:DAYLIGHT
BEGIN:STANDARD
TZOFFSETFROM:+0200
TZOFFSETTO:+0100
TZNAME:CET
DTSTART:20261025T010000
END:STANDARD
END:VTIMEZONE
BEGIN:VEVENT
DTSTART;VALUE=DATE:20250212
DTEND;VALUE=DATE:20250214
DTSTAMP:20260420T192300
CREATED:20241203T161830Z
LAST-MODIFIED:20241203T161830Z
UID:1000072085-1739318400-1739491199@moproweb.de
SUMMARY:Inno-Meeting 2025
DESCRIPTION:  \nUnter dem Motto “Weniger ist mehr” präsentiert das 22. Inno-Meeting am 12. bis 13. Februar 2025 im Vienna House Remarque in Osnabrück die fortschrittlichsten und nachhaltigsten Ansätze bei der Entwicklung flexibler Minimalverpackungen. Die Teilnehmenden erfahren an zwei Tagen\, wie innovatives Design\, neue Materialien und modernste Technologien den Ressourcen Einsatz minimieren und die Umwelt entlasten\, ohne Einbußen bei Funktionalität und Ästhetik. \nIn einer Zeit\, in der Umweltschutz unverzichtbar ist\, wird die Verpackungsoptimierung zum gesellschaftlichen Muss\, die sich zugleich in gesetzlichen Vorgaben niederschlägt. Karsten Schröder (Innoform Coaching GbR) führt als Veranstalter und Moderator durch ein inspirierendes Programm voller Impulse und offener Diskussionen. Zu den inhaltlichen Höhepunkten gehören: \nRegulatorische Entwicklungen: Welche neuen Vorschriften kommen auf die Branche zu? Praxisbeispiele und kontroverse Diskussionen beleuchten die Auswirkungen. Nachhaltigkeit und Ökoeffizienz: Wie lässt sich der ökologische Fußabdruck durch wiederverwertbare und recycelte Materialien reduzieren? Innovative Materialien: Welche dünnen\, hochleistungsfähigen Barriere Materialien gibt es\, die die Haltbarkeit verlängern und den ökologischen Fußabdruck reduzieren? Druck: Welche Entwicklungen bei Drucktechniken\, Farben und Hilfsmitteln\, die auf Nachhaltigkeit setzen\, gibt es? Networking: zahlreiche Branchenführer und Experten treffen. \nDie Teilnahmegebühr für das zweitägige Event vor Ort beträgt 1.490\,00€ netto\, die Teilnahme am Livestream 799\,00€ netto. \nUnternehmen haben die Möglichkeit\, ihre Produktlösungen in einer Table-Top-Ausstellung vor Ort und im Livestream zu präsentieren.
URL:https://moproweb.de/event/inno-meeting-2025/
CATEGORIES:Seminare
ATTACH;FMTTYPE=image/jpeg:https://moproweb.de/wp-content/uploads/2024/01/innoform_logo_2011.jpg
END:VEVENT
END:VCALENDAR