BEGIN:VCALENDAR
VERSION:2.0
PRODID:-//moproweb - ECPv6.15.20//NONSGML v1.0//EN
CALSCALE:GREGORIAN
METHOD:PUBLISH
X-WR-CALNAME:moproweb
X-ORIGINAL-URL:https://moproweb.de
X-WR-CALDESC:Veranstaltungen für moproweb
REFRESH-INTERVAL;VALUE=DURATION:PT1H
X-Robots-Tag:noindex
X-PUBLISHED-TTL:PT1H
BEGIN:VTIMEZONE
TZID:Europe/Berlin
BEGIN:DAYLIGHT
TZOFFSETFROM:+0100
TZOFFSETTO:+0200
TZNAME:CEST
DTSTART:20240331T010000
END:DAYLIGHT
BEGIN:STANDARD
TZOFFSETFROM:+0200
TZOFFSETTO:+0100
TZNAME:CET
DTSTART:20241027T010000
END:STANDARD
BEGIN:DAYLIGHT
TZOFFSETFROM:+0100
TZOFFSETTO:+0200
TZNAME:CEST
DTSTART:20250330T010000
END:DAYLIGHT
BEGIN:STANDARD
TZOFFSETFROM:+0200
TZOFFSETTO:+0100
TZNAME:CET
DTSTART:20251026T010000
END:STANDARD
BEGIN:DAYLIGHT
TZOFFSETFROM:+0100
TZOFFSETTO:+0200
TZNAME:CEST
DTSTART:20260329T010000
END:DAYLIGHT
BEGIN:STANDARD
TZOFFSETFROM:+0200
TZOFFSETTO:+0100
TZNAME:CET
DTSTART:20261025T010000
END:STANDARD
END:VTIMEZONE
BEGIN:VEVENT
DTSTART;VALUE=DATE:20250122
DTEND;VALUE=DATE:20250124
DTSTAMP:20260420T223455
CREATED:20241202T141944Z
LAST-MODIFIED:20241202T141944Z
UID:1000071973-1737504000-1737676799@moproweb.de
SUMMARY:Empack Schweiz
DESCRIPTION:Erleben Sie auf der EMPACK den gesamten Verpackungsteil der Wertschöpfungskette\, von der kreativen Verpackungsentwicklungsphase\, bis hin zum technischen Verpackungs- und Abfüllprozess mit Verpackungsmaschinen. Die Empack ist die größte Verpackungsmesse in der Schweiz.
URL:https://moproweb.de/event/empack-schweiz/
CATEGORIES:Messe
ATTACH;FMTTYPE=image/png:https://mopro-web.s3.eu-central-1.amazonaws.com/wp-content/uploads/2024/12/02151919/Empack_logo-2020_RGB_HR-transparant-1024x341-1.png
END:VEVENT
END:VCALENDAR