BEGIN:VCALENDAR
VERSION:2.0
PRODID:-//moproweb - ECPv6.15.18//NONSGML v1.0//EN
CALSCALE:GREGORIAN
METHOD:PUBLISH
X-WR-CALNAME:moproweb
X-ORIGINAL-URL:https://moproweb.de
X-WR-CALDESC:Veranstaltungen für moproweb
REFRESH-INTERVAL;VALUE=DURATION:PT1H
X-Robots-Tag:noindex
X-PUBLISHED-TTL:PT1H
BEGIN:VTIMEZONE
TZID:Europe/Berlin
BEGIN:DAYLIGHT
TZOFFSETFROM:+0100
TZOFFSETTO:+0200
TZNAME:CEST
DTSTART:20240331T010000
END:DAYLIGHT
BEGIN:STANDARD
TZOFFSETFROM:+0200
TZOFFSETTO:+0100
TZNAME:CET
DTSTART:20241027T010000
END:STANDARD
BEGIN:DAYLIGHT
TZOFFSETFROM:+0100
TZOFFSETTO:+0200
TZNAME:CEST
DTSTART:20250330T010000
END:DAYLIGHT
BEGIN:STANDARD
TZOFFSETFROM:+0200
TZOFFSETTO:+0100
TZNAME:CET
DTSTART:20251026T010000
END:STANDARD
BEGIN:DAYLIGHT
TZOFFSETFROM:+0100
TZOFFSETTO:+0200
TZNAME:CEST
DTSTART:20260329T010000
END:DAYLIGHT
BEGIN:STANDARD
TZOFFSETFROM:+0200
TZOFFSETTO:+0100
TZNAME:CET
DTSTART:20261025T010000
END:STANDARD
END:VTIMEZONE
BEGIN:VEVENT
DTSTART;VALUE=DATE:20250902
DTEND;VALUE=DATE:20250904
DTSTAMP:20260420T092334
CREATED:20250707T072212Z
LAST-MODIFIED:20250707T072212Z
UID:1000077462-1756771200-1756943999@moproweb.de
SUMMARY:DLG-Unternehmertage 2025:
DESCRIPTION:  \nDer „Green Deal“ hat sein Ziel verfehlt: Die Extensivierung der Produktion führte zu stagnierenden Erträgen und verringerter internationaler Wettbewerbsfähigkeit land- und ernährungswirtschaftlicher Unternehmen. Gleichzeitig blieben die erhofften Fortschritte bei Klimaschutz und Biodiversitätserhalt weitestgehend aus. Vor diesem Hintergrund schlägt die DLG (Deutsche Landwirtschafts-Gesellschaft) einen neuen Fortschrittsbegriff vor: „Nachhaltige Produktivitätssteigerung“. Sie lädt alle Akteure der Land- und Lebensmittelwirtschaft dazu ein\, diesen Ansatz mitzugestalten und in die Praxis zu überführen. Den Auftakt dafür setzen die DLG-Unternehmertage unter dem Thema „Nachhaltige Produktivitätssteigerung – Betrieb\, Markt\, Umwelt“ am 2. und 3. September 2025 im CongressCenter in Erfurt. Im neuen Veranstaltungsformat werden Fachleute\, Vordenker und Profis aus der Praxis zu Schrittmachern des neuen Fortschrittsbegriffs\, der Ertragssteigerung und Wettbewerbsfähigkeit in den Fokus rückt und Ressourcenschutz sowie Tierwohl ins Kalkül einbezieht. \nEiner der  Schwerpunkte ist mit „Trends und innovative Geschäftsmodelle in der Lebensmittelwirtschaft” betitelt.
URL:https://moproweb.de/event/dlg-unternehmertage-2025/
CATEGORIES:sonstige Veranstaltung
ATTACH;FMTTYPE=image/jpeg:https://mopro-web.s3.eu-central-1.amazonaws.com/wp-content/uploads/2024/08/28152300/DLG_Logo_Neu_Sep_2020-2.jpg
END:VEVENT
END:VCALENDAR