BEGIN:VCALENDAR
VERSION:2.0
PRODID:-//moproweb - ECPv6.15.18//NONSGML v1.0//EN
CALSCALE:GREGORIAN
METHOD:PUBLISH
X-WR-CALNAME:moproweb
X-ORIGINAL-URL:https://moproweb.de
X-WR-CALDESC:Veranstaltungen für moproweb
REFRESH-INTERVAL;VALUE=DURATION:PT1H
X-Robots-Tag:noindex
X-PUBLISHED-TTL:PT1H
BEGIN:VTIMEZONE
TZID:Europe/Berlin
BEGIN:DAYLIGHT
TZOFFSETFROM:+0100
TZOFFSETTO:+0200
TZNAME:CEST
DTSTART:20250330T010000
END:DAYLIGHT
BEGIN:STANDARD
TZOFFSETFROM:+0200
TZOFFSETTO:+0100
TZNAME:CET
DTSTART:20251026T010000
END:STANDARD
BEGIN:DAYLIGHT
TZOFFSETFROM:+0100
TZOFFSETTO:+0200
TZNAME:CEST
DTSTART:20260329T010000
END:DAYLIGHT
BEGIN:STANDARD
TZOFFSETFROM:+0200
TZOFFSETTO:+0100
TZNAME:CET
DTSTART:20261025T010000
END:STANDARD
BEGIN:DAYLIGHT
TZOFFSETFROM:+0100
TZOFFSETTO:+0200
TZNAME:CEST
DTSTART:20270328T010000
END:DAYLIGHT
BEGIN:STANDARD
TZOFFSETFROM:+0200
TZOFFSETTO:+0100
TZNAME:CET
DTSTART:20271031T010000
END:STANDARD
END:VTIMEZONE
BEGIN:VEVENT
DTSTART;VALUE=DATE:20260319
DTEND;VALUE=DATE:20260320
DTSTAMP:20260419T185549
CREATED:20251203T125305Z
LAST-MODIFIED:20251203T125305Z
UID:1000081391-1773878400-1773964799@moproweb.de
SUMMARY:Deutscher Verpackungskongress
DESCRIPTION:  \nDas Deutsche Verpackungsinstitut e. V. (dvi) lädt Entscheider aus Industrie\, Handel und Marken am 19. März 2026 zum 21. Deutschen Verpackungskongress nach Berlin ein. Unter dem Motto „Jetzt erst recht! Unternehmerische Handlungsspielräume in der Supply Chain nutzen.“ adressiert der Netzwerk-Gipfel Strategien und Wege\, um in komplexen Situationen und schwierigen Märkten wirtschaftlich erfolgreich und verantwortungsvoll Zukunft zu gestalten. Frühbuchende profitieren bis zum 19. Januar 2026 von einer substanziellen Ermäßigung. \nKomplexe Situationen und schwierige Märkte stellen besondere Herausforderungen an unternehmerisches Handeln. Führungskräfte und Verantwortliche brauchen Mut\, Beinfreiheit und den Willen\, Zukunft aktiv zu gestalten. Gleichzeitig bieten besondere Situationen auch besondere Möglichkeiten. \nJetzt erst recht! Unternehmerische Handlungsspielräume in der Supply Chain nutzen. \n„Auf dem Gipfeltreffen der Branche wollen wir erörtern\, wie sich Unternehmen entlang der Value-Chain trotz oder gerade in schwierigen Situationen Handlungsspielräume erschließen und diese erfolgreich und verantwortungsvoll nutzen können. Wir freuen uns gemeinsam mit unserem Premiumpartner FACHPACK auf einen Tag und einen exklusiven Netzwerkabend mit Top-Stakeholdern aus Wirtschaft und Politik\, auf breite Branchenpräsenz\, viel Kompetenz\, starke Stimmen\, fundierte Meinungen und auf einen offenen Austausch“\, lädt dvi-Geschäftsführerin Dr. Natalie Brandenburg ein. \nBis zum 19. Januar 2026 bietet das dvi Frühbuchern eine Ermäßigung von 20 Prozent an. Anmeldungen sind über die Homepage des dvi und unter verpackungskongress.de möglich. \n  \nFoto: dvi / André Wagenzik
URL:https://moproweb.de/event/deutscher-verpackungskongress-2/
CATEGORIES:Seminare
ATTACH;FMTTYPE=image/jpeg:https://mopro-web.s3.eu-central-1.amazonaws.com/wp-content/uploads/2025/12/03135209/Image-Deuscher-Verpackungskongress-2025-Foto-Andre-Wagenzik.jpg
END:VEVENT
END:VCALENDAR