BEGIN:VCALENDAR
VERSION:2.0
PRODID:-//moproweb - ECPv6.15.18//NONSGML v1.0//EN
CALSCALE:GREGORIAN
METHOD:PUBLISH
X-WR-CALNAME:moproweb
X-ORIGINAL-URL:https://moproweb.de
X-WR-CALDESC:Veranstaltungen für moproweb
REFRESH-INTERVAL;VALUE=DURATION:PT1H
X-Robots-Tag:noindex
X-PUBLISHED-TTL:PT1H
BEGIN:VTIMEZONE
TZID:Europe/Berlin
BEGIN:DAYLIGHT
TZOFFSETFROM:+0100
TZOFFSETTO:+0200
TZNAME:CEST
DTSTART:20240331T010000
END:DAYLIGHT
BEGIN:STANDARD
TZOFFSETFROM:+0200
TZOFFSETTO:+0100
TZNAME:CET
DTSTART:20241027T010000
END:STANDARD
BEGIN:DAYLIGHT
TZOFFSETFROM:+0100
TZOFFSETTO:+0200
TZNAME:CEST
DTSTART:20250330T010000
END:DAYLIGHT
BEGIN:STANDARD
TZOFFSETFROM:+0200
TZOFFSETTO:+0100
TZNAME:CET
DTSTART:20251026T010000
END:STANDARD
BEGIN:DAYLIGHT
TZOFFSETFROM:+0100
TZOFFSETTO:+0200
TZNAME:CEST
DTSTART:20260329T010000
END:DAYLIGHT
BEGIN:STANDARD
TZOFFSETFROM:+0200
TZOFFSETTO:+0100
TZNAME:CET
DTSTART:20261025T010000
END:STANDARD
END:VTIMEZONE
BEGIN:VEVENT
DTSTART;TZID=Europe/Berlin:20251202T134500
DTEND;TZID=Europe/Berlin:20251202T160000
DTSTAMP:20260420T014926
CREATED:20250808T180926Z
LAST-MODIFIED:20250808T180926Z
UID:1000078716-1764683100-1764691200@moproweb.de
SUMMARY:Bestimmung von Leistungsmerkmalen in der Wassermikrobiologie\, DIN EN ISO 13843
DESCRIPTION:In diesem Seminar wird die gesamte Norm DIN EN ISO 13843:2018 vorgestellt: \n\nRelevanz der Norm DIN EN ISO 13843:2018 “Wasserbeschaffenheit – Anforderungen zur Bestimmung von Leistungsmerkmalen von quantitativen mikrobiologischen Verfahren”\nVorgehensweise\nErgebnisinterpretation
URL:https://moproweb.de/event/bestimmung-von-leistungsmerkmalen-in-der-wassermikrobiologie-din-en-iso-13843/
LOCATION:Online
CATEGORIES:Seminare
END:VEVENT
END:VCALENDAR