BEGIN:VCALENDAR
VERSION:2.0
PRODID:-//moproweb - ECPv6.15.18//NONSGML v1.0//EN
CALSCALE:GREGORIAN
METHOD:PUBLISH
X-WR-CALNAME:moproweb
X-ORIGINAL-URL:https://moproweb.de
X-WR-CALDESC:Veranstaltungen für moproweb
REFRESH-INTERVAL;VALUE=DURATION:PT1H
X-Robots-Tag:noindex
X-PUBLISHED-TTL:PT1H
BEGIN:VTIMEZONE
TZID:Europe/Berlin
BEGIN:DAYLIGHT
TZOFFSETFROM:+0100
TZOFFSETTO:+0200
TZNAME:CEST
DTSTART:20240331T010000
END:DAYLIGHT
BEGIN:STANDARD
TZOFFSETFROM:+0200
TZOFFSETTO:+0100
TZNAME:CET
DTSTART:20241027T010000
END:STANDARD
BEGIN:DAYLIGHT
TZOFFSETFROM:+0100
TZOFFSETTO:+0200
TZNAME:CEST
DTSTART:20250330T010000
END:DAYLIGHT
BEGIN:STANDARD
TZOFFSETFROM:+0200
TZOFFSETTO:+0100
TZNAME:CET
DTSTART:20251026T010000
END:STANDARD
BEGIN:DAYLIGHT
TZOFFSETFROM:+0100
TZOFFSETTO:+0200
TZNAME:CEST
DTSTART:20260329T010000
END:DAYLIGHT
BEGIN:STANDARD
TZOFFSETFROM:+0200
TZOFFSETTO:+0100
TZNAME:CET
DTSTART:20261025T010000
END:STANDARD
END:VTIMEZONE
BEGIN:VEVENT
DTSTART;VALUE=DATE:20251004
DTEND;VALUE=DATE:20251009
DTSTAMP:20260420T062827
CREATED:20250414T071330Z
LAST-MODIFIED:20250414T071330Z
UID:1000074836-1759536000-1759967999@moproweb.de
SUMMARY:Anuga 2025
DESCRIPTION:  \nAnuga\, international größter Handels- und Marktplatz der globalen F&B-Industrie\, präsentiert gemeinsam mit ihrem Knowledge-Partner Innova Market Insights die entscheidenden Trend- und Fokusthemen für 2025. Diese Entwicklungen spiegeln die zunehmende Innovationskraft der Branche wider und werden auf der Anuga 2025 eine zentrale Rolle spielen. Besonders im Fokus stehen personalisierte Ernährung\, Nachhaltigkeit\, alternative Proteinquellen sowie der wachsende Einfluss von Private Labels. Als globaler Impulsgeber setzt die Anuga maßgebliche Trends\, und zeigt mit ihren Fokusthemen konkrete Businesspotenziale auf. \n 
URL:https://moproweb.de/event/anuga-2025/
CATEGORIES:Messe
END:VEVENT
END:VCALENDAR