BEGIN:VCALENDAR
VERSION:2.0
PRODID:-//moproweb - ECPv6.15.18//NONSGML v1.0//EN
CALSCALE:GREGORIAN
METHOD:PUBLISH
X-WR-CALNAME:moproweb
X-ORIGINAL-URL:https://moproweb.de
X-WR-CALDESC:Veranstaltungen für moproweb
REFRESH-INTERVAL;VALUE=DURATION:PT1H
X-Robots-Tag:noindex
X-PUBLISHED-TTL:PT1H
BEGIN:VTIMEZONE
TZID:Europe/Berlin
BEGIN:DAYLIGHT
TZOFFSETFROM:+0100
TZOFFSETTO:+0200
TZNAME:CEST
DTSTART:20250330T010000
END:DAYLIGHT
BEGIN:STANDARD
TZOFFSETFROM:+0200
TZOFFSETTO:+0100
TZNAME:CET
DTSTART:20251026T010000
END:STANDARD
BEGIN:DAYLIGHT
TZOFFSETFROM:+0100
TZOFFSETTO:+0200
TZNAME:CEST
DTSTART:20260329T010000
END:DAYLIGHT
BEGIN:STANDARD
TZOFFSETFROM:+0200
TZOFFSETTO:+0100
TZNAME:CET
DTSTART:20261025T010000
END:STANDARD
BEGIN:DAYLIGHT
TZOFFSETFROM:+0100
TZOFFSETTO:+0200
TZNAME:CEST
DTSTART:20270328T010000
END:DAYLIGHT
BEGIN:STANDARD
TZOFFSETFROM:+0200
TZOFFSETTO:+0100
TZNAME:CET
DTSTART:20271031T010000
END:STANDARD
END:VTIMEZONE
BEGIN:VEVENT
DTSTART;VALUE=DATE:20260324
DTEND;VALUE=DATE:20260328
DTSTAMP:20260419T203225
CREATED:20251210T085849Z
LAST-MODIFIED:20251210T085849Z
UID:1000081505-1774310400-1774655999@moproweb.de
SUMMARY:analytica 2026
DESCRIPTION:Die analytica 2026\, Weltleitmesse für Labortechnik\, Analytik und Biotechnologie\, findet vom 24. bis 27. März 2026 in München statt. Innovative Analysengeräte\, weniger giftige Chemikalien und mehr Künstliche Intelligenz: Auf der Messe zeigen Aussteller und Forscher aus aller Welt\, wie sich die tägliche Laborarbeit nachhaltiger gestalten lässt. „Die analytica versteht sich als Wegweiser ins grüne Labor“\, betont Exhibition Director Susanne Grödl. Green-Lab-Konzepte ziehen sich daher wie ein roter Faden durch Messe\, analytica conference und das umfangreiche Rahmenprogramm.
URL:https://moproweb.de/event/analytica-2026-2/
CATEGORIES:Messe
ATTACH;FMTTYPE=image/jpeg:https://mopro-web.s3.eu-central-1.amazonaws.com/wp-content/uploads/2025/12/10095834/analytica2024_tp_7885.jpg
END:VEVENT
END:VCALENDAR